BEGIN:VCALENDAR
VERSION:2.0
PRODID:-//AMBLA SPORDIKLUBI - ECPv6.3.5//NONSGML v1.0//EN
CALSCALE:GREGORIAN
METHOD:PUBLISH
X-WR-CALNAME:AMBLA SPORDIKLUBI
X-ORIGINAL-URL:https://amblask.ee
X-WR-CALDESC:Events for AMBLA SPORDIKLUBI
REFRESH-INTERVAL;VALUE=DURATION:PT1H
X-Robots-Tag:noindex
X-PUBLISHED-TTL:PT1H
BEGIN:VTIMEZONE
TZID:Europe/Moscow
BEGIN:STANDARD
TZOFFSETFROM:+0300
TZOFFSETTO:+0300
TZNAME:MSK
DTSTART:20190101T000000
END:STANDARD
END:VTIMEZONE
BEGIN:VEVENT
DTSTART;TZID=Europe/Moscow:20190525T120000
DTEND;TZID=Europe/Moscow:20190525T160000
DTSTAMP:20260422T050732
CREATED:20190523T102051Z
LAST-MODIFIED:20190523T102051Z
UID:211-1558785600-1558800000@amblask.ee
SUMMARY:Järva valla lahtised MV kergejõustikus
DESCRIPTION:Järva valla lahtised MV kergejõustikus \n25. mail kell 12.00 Aravete staadionil \n 
URL:https://amblask.ee/sundmus/jarva-valla-lahtised-mv-kergejoustikus/
LOCATION:Aravete Staadion\, 59.143233\, 25.756861\, Aravete\, Järvamaa\, 73501
END:VEVENT
END:VCALENDAR