BEGIN:VCALENDAR
VERSION:2.0
PRODID:-//AMBLA SPORDIKLUBI - ECPv6.3.5//NONSGML v1.0//EN
CALSCALE:GREGORIAN
METHOD:PUBLISH
X-ORIGINAL-URL:https://amblask.ee
X-WR-CALDESC:Events for AMBLA SPORDIKLUBI
REFRESH-INTERVAL;VALUE=DURATION:PT1H
X-Robots-Tag:noindex
X-PUBLISHED-TTL:PT1H
BEGIN:VTIMEZONE
TZID:Europe/Moscow
BEGIN:STANDARD
TZOFFSETFROM:+0300
TZOFFSETTO:+0300
TZNAME:MSK
DTSTART:20200101T000000
END:STANDARD
END:VTIMEZONE
BEGIN:VEVENT
DTSTART;TZID=Europe/Moscow:20201008T170000
DTEND;TZID=Europe/Moscow:20201008T180000
DTSTAMP:20260422T051103
CREATED:20201005T102045Z
LAST-MODIFIED:20201007T171632Z
UID:527-1602176400-1602180000@amblask.ee
SUMMARY:Suusatajate seeriajooks 1. etapp
DESCRIPTION:
URL:https://amblask.ee/sundmus/suusatajate-seeriajooks-1-etapp/
LOCATION:Kangrumägi
CATEGORIES:Jooks
END:VEVENT
BEGIN:VEVENT
DTSTART;TZID=Europe/Moscow:20201015T170000
DTEND;TZID=Europe/Moscow:20201015T180000
DTSTAMP:20260422T051103
CREATED:20201007T171733Z
LAST-MODIFIED:20201007T171733Z
UID:552-1602781200-1602784800@amblask.ee
SUMMARY:Suusatajate seeriajooks 2. etapp
DESCRIPTION:
URL:https://amblask.ee/sundmus/suusatajate-seeriajooks-2-etapp/
LOCATION:Järvamaa
CATEGORIES:Jooks
END:VEVENT
END:VCALENDAR