BEGIN:VCALENDAR
VERSION:2.0
PRODID:-//AMBLA SPORDIKLUBI - ECPv6.3.5//NONSGML v1.0//EN
CALSCALE:GREGORIAN
METHOD:PUBLISH
X-ORIGINAL-URL:https://amblask.ee
X-WR-CALDESC:Events for AMBLA SPORDIKLUBI
REFRESH-INTERVAL;VALUE=DURATION:PT1H
X-Robots-Tag:noindex
X-PUBLISHED-TTL:PT1H
BEGIN:VTIMEZONE
TZID:Europe/Moscow
BEGIN:STANDARD
TZOFFSETFROM:+0300
TZOFFSETTO:+0300
TZNAME:MSK
DTSTART:20200101T000000
END:STANDARD
END:VTIMEZONE
BEGIN:VEVENT
DTSTART;TZID=Europe/Moscow:20200213T110000
DTEND;TZID=Europe/Moscow:20200213T170000
DTSTAMP:20260421T234548
CREATED:20200110T104224Z
LAST-MODIFIED:20200110T104224Z
UID:429-1581591600-1581613200@amblask.ee
SUMMARY:Järvamaa MV korvpallis
DESCRIPTION:Järvamaa MV korvpallis \nKuupäev on täpsustamisel
URL:https://amblask.ee/sundmus/jarvamaa-mv-korvpallis-3/
LOCATION:Aravete Spordihoone\, Piibe mnt 21\, Aravete\, Järvamaa\, 73501
CATEGORIES:Pallimängud
END:VEVENT
BEGIN:VEVENT
DTSTART;TZID=Europe/Moscow:20200224T120000
DTEND;TZID=Europe/Moscow:20200224T170000
DTSTAMP:20260421T234548
CREATED:20200110T102218Z
LAST-MODIFIED:20200110T102218Z
UID:399-1582545600-1582563600@amblask.ee
SUMMARY:Madisepäeva suusasõit\, Järvamaa MV suusatamises
DESCRIPTION:Madisepäeva suusasõit\, Järvamaa MV suusatamises\, vabatehnika
URL:https://amblask.ee/sundmus/madisepaeva-suusasoit-jarvamaa-mv-suusatamises/
CATEGORIES:Suusatamine
END:VEVENT
END:VCALENDAR